BEGIN:VCALENDAR
VERSION:2.0
CALSCALE:GREGORIAN
PRODID:adamgibbons/ics
METHOD:PUBLISH
X-PUBLISHED-TTL:PT1H
BEGIN:VEVENT
UID:1016@www.lakelogaztetxea.net
SUMMARY:27 urteurrena La Kelo Gaztetxea
DTSTAMP:20260424T030425Z
DTSTART:20260417T172500Z
DTEND:20260426T215900Z
URL:https://www.lakelogaztetxea.net/event/27-urteurrena-la-kelo-gaztetxea-1
LOCATION:La Kelo Gaztetxea - Mahastiak / Las Viñas 63\, 48980 Santurtzi
STATUS:CONFIRMED
CATEGORIES:urteurrena
END:VEVENT
END:VCALENDAR
